BEGIN:VCALENDAR
VERSION:2.0
PRODID:-//PIONEER COMMUNITY CHURCH - ECPv6.15.20//NONSGML v1.0//EN
CALSCALE:GREGORIAN
METHOD:PUBLISH
X-WR-CALNAME:PIONEER COMMUNITY CHURCH
X-ORIGINAL-URL:https://pccutah.org
X-WR-CALDESC:Events for PIONEER COMMUNITY CHURCH
REFRESH-INTERVAL;VALUE=DURATION:PT1H
X-Robots-Tag:noindex
X-PUBLISHED-TTL:PT1H
BEGIN:VTIMEZONE
TZID:America/Denver
BEGIN:DAYLIGHT
TZOFFSETFROM:-0700
TZOFFSETTO:-0600
TZNAME:MDT
DTSTART:20220313T090000
END:DAYLIGHT
BEGIN:STANDARD
TZOFFSETFROM:-0600
TZOFFSETTO:-0700
TZNAME:MST
DTSTART:20221106T080000
END:STANDARD
BEGIN:DAYLIGHT
TZOFFSETFROM:-0700
TZOFFSETTO:-0600
TZNAME:MDT
DTSTART:20230312T090000
END:DAYLIGHT
BEGIN:STANDARD
TZOFFSETFROM:-0600
TZOFFSETTO:-0700
TZNAME:MST
DTSTART:20231105T080000
END:STANDARD
BEGIN:DAYLIGHT
TZOFFSETFROM:-0700
TZOFFSETTO:-0600
TZNAME:MDT
DTSTART:20240310T090000
END:DAYLIGHT
BEGIN:STANDARD
TZOFFSETFROM:-0600
TZOFFSETTO:-0700
TZNAME:MST
DTSTART:20241103T080000
END:STANDARD
BEGIN:DAYLIGHT
TZOFFSETFROM:-0700
TZOFFSETTO:-0600
TZNAME:MDT
DTSTART:20250309T090000
END:DAYLIGHT
BEGIN:STANDARD
TZOFFSETFROM:-0600
TZOFFSETTO:-0700
TZNAME:MST
DTSTART:20251102T080000
END:STANDARD
BEGIN:DAYLIGHT
TZOFFSETFROM:-0700
TZOFFSETTO:-0600
TZNAME:MDT
DTSTART:20260308T090000
END:DAYLIGHT
BEGIN:STANDARD
TZOFFSETFROM:-0600
TZOFFSETTO:-0700
TZNAME:MST
DTSTART:20261101T080000
END:STANDARD
BEGIN:DAYLIGHT
TZOFFSETFROM:-0700
TZOFFSETTO:-0600
TZNAME:MDT
DTSTART:20270314T090000
END:DAYLIGHT
BEGIN:STANDARD
TZOFFSETFROM:-0600
TZOFFSETTO:-0700
TZNAME:MST
DTSTART:20271107T080000
END:STANDARD
END:VTIMEZONE
BEGIN:VEVENT
DTSTART;TZID=America/Denver:20260325T160000
DTEND;TZID=America/Denver:20260325T173000
DTSTAMP:20260423T145401
CREATED:20260322T151040Z
LAST-MODIFIED:20260322T151040Z
UID:4643-1774454400-1774459800@pccutah.org
SUMMARY:Trusting God
DESCRIPTION:Trusting God as we follow His Word \nWednesday\, March 25th 4pm – 5:30pm \nSilver Lake Amphitheater Park \nScavenger Hunt & Donuts!
URL:https://pccutah.org/event/trusting-god-2026/
LOCATION:Silver Lake Amphitheater Park\, Silver Lake Amphitheater\, Pony Express Parkway\, Eagle Mountain\, UT\, 84005\, United States
CATEGORIES:All Church Events,Student
ATTACH;FMTTYPE=image/jpeg:https://pccutah.org/wp-content/uploads/2026/03/2026-Trusting-God-scaled.jpg
ORGANIZER;CN="Pioneer Community Church":MAILTO:contact@pccutah.org
END:VEVENT
BEGIN:VEVENT
DTSTART;TZID=America/Denver:20251214T180000
DTEND;TZID=America/Denver:20251214T193000
DTSTAMP:20260423T145401
CREATED:20251109T161407Z
LAST-MODIFIED:20251109T161407Z
UID:4480-1765735200-1765740600@pccutah.org
SUMMARY:Faith\, Food\, & Fun
DESCRIPTION:Students \nGrades 4th – 12th \nDecember 14th | 6:00-7:30 pm \n7853 Oakwood Dr\, EM
URL:https://pccutah.org/event/students-2025-12/
LOCATION:Smith House\, 7853 Oakwood Road\, Eagle Mountain\, UT\, 84005
CATEGORIES:All Church Events,Student
ATTACH;FMTTYPE=image/jpeg:https://pccutah.org/wp-content/uploads/2025/11/students-2025-12.jpg
ORGANIZER;CN="Pioneer Community Church":MAILTO:contact@pccutah.org
END:VEVENT
BEGIN:VEVENT
DTSTART;TZID=America/Denver:20251116T180000
DTEND;TZID=America/Denver:20251116T193000
DTSTAMP:20260423T145401
CREATED:20251109T162024Z
LAST-MODIFIED:20251109T162024Z
UID:4482-1763316000-1763321400@pccutah.org
SUMMARY:Friendsgiving
DESCRIPTION:November 16th | 6:00-7:30 pm \nStudents (4th – 12th grade) \nInvite a friend and bring a dish to share! \nTurkey will be provided. \n7853 Oakwood Dr\, EM
URL:https://pccutah.org/event/friendsgiving-2025/
LOCATION:Smith House\, 7853 Oakwood Road\, Eagle Mountain\, UT\, 84005
CATEGORIES:All Church Events,Student
ATTACH;FMTTYPE=image/jpeg:https://pccutah.org/wp-content/uploads/2025/11/friendsgiving-2025.jpg
ORGANIZER;CN="Pioneer Community Church":MAILTO:contact@pccutah.org
END:VEVENT
BEGIN:VEVENT
DTSTART;TZID=America/Denver:20250905T183000
DTEND;TZID=America/Denver:20250905T183000
DTSTAMP:20260423T145401
CREATED:20250816T004612Z
LAST-MODIFIED:20250816T004612Z
UID:4286-1757097000-1757097000@pccutah.org
SUMMARY:Youth Bowling Night
DESCRIPTION:PCC Youth Bowling Night \n6th – 12th Grades \nSept 5th | 6:30 pm \nFat Cats Saratoga Springs \nPizza\, Bowling\, & Drinks Provided
URL:https://pccutah.org/event/youth-bowling-night-2025/
LOCATION:Fat Cats Saratoga Springs\, 212 Pioneer Crossing\, Saratoga Springs\, UT 84045\, Saratoga Springs\, UT\, 84045\, United States
CATEGORIES:All Church Events,Student
ATTACH;FMTTYPE=image/jpeg:https://pccutah.org/wp-content/uploads/2025/08/Youth-Bowling-Night-2025.jpeg
ORGANIZER;CN="Pioneer Community Church":MAILTO:contact@pccutah.org
END:VEVENT
BEGIN:VEVENT
DTSTART;TZID=America/Denver:20250826T160000
DTEND;TZID=America/Denver:20250826T180000
DTSTAMP:20260423T145401
CREATED:20250816T004048Z
LAST-MODIFIED:20250816T004048Z
UID:4282-1756224000-1756231200@pccutah.org
SUMMARY:Smith Ranch Park
DESCRIPTION:For 5th and 6th Graders \nAugust 26th | 4pm – 6pm \nPizza & Gatorade will be provided \n3985 Smith Ranch Rd
URL:https://pccutah.org/event/smith-ranch-park-2025/
LOCATION:Smith Ranch Park\, 3985 Smith Ranch Rd\, Eagle Mountain\, UT\, 84005\, United States
CATEGORIES:All Church Events,Student
ATTACH;FMTTYPE=image/jpeg:https://pccutah.org/wp-content/uploads/2025/08/Smith-Ranch-Park-2025.jpeg
ORGANIZER;CN="Pioneer Community Church":MAILTO:contact@pccutah.org
END:VEVENT
BEGIN:VEVENT
DTSTART;VALUE=DATE:20250623
DTEND;VALUE=DATE:20250627
DTSTAMP:20260423T145401
CREATED:20250329T034423Z
LAST-MODIFIED:20250329T034423Z
UID:4105-1750636800-1750982399@pccutah.org
SUMMARY:Vacation Bible School 2025
DESCRIPTION:Games | Crafts | Snacks | Music | Bible Stories| Fun \nJune 23 – June 26 | 9am-Noon | Grades K-5 \nCory B Wride Memorial Park \nFree | Register Today \nRegistration Form \n(All volunteers have been background-checked for safety)
URL:https://pccutah.org/event/vacation-bible-school-2025/
LOCATION:Cory B Wride Memorial Park\, 5806 Pony Express Pkwy\, Eagle Mountain\, UT\, 84005\, United States
CATEGORIES:All Church Events,Student
ATTACH;FMTTYPE=image/jpeg:https://pccutah.org/wp-content/uploads/2025/03/VBS-2025.jpg
ORGANIZER;CN="Pioneer Community Church":MAILTO:contact@pccutah.org
END:VEVENT
BEGIN:VEVENT
DTSTART;TZID=America/Denver:20250427T180000
DTEND;TZID=America/Denver:20250427T203000
DTSTAMP:20260423T145401
CREATED:20250330T201849Z
LAST-MODIFIED:20250330T202007Z
UID:4116-1745776800-1745785800@pccutah.org
SUMMARY:Youth Game Night
DESCRIPTION:Game Night | Refuge (Grades 6-12) \nSunday\, April 27 | 6:00pm – 8:30pm \nDinner Provided | Bring a friend
URL:https://pccutah.org/event/game-night-2025/
LOCATION:Smith House\, 7853 Oakwood Road\, Eagle Mountain\, UT\, 84005
CATEGORIES:All Church Events,Student
ATTACH;FMTTYPE=image/jpeg:https://pccutah.org/wp-content/uploads/2025/03/Game-Night-2025.jpg
ORGANIZER;CN="Pioneer Community Church":MAILTO:contact@pccutah.org
END:VEVENT
BEGIN:VEVENT
DTSTART;VALUE=DATE:20240625
DTEND;VALUE=DATE:20240629
DTSTAMP:20260423T145401
CREATED:20240421T141758Z
LAST-MODIFIED:20240421T142147Z
UID:3667-1719273600-1719619199@pccutah.org
SUMMARY:VBS 2024
DESCRIPTION:Games | Crafts | Snacks | Music | Bible Stories| Fun \nJune 25 – June 28 | 9am-Noon | Grades K-5 \nCory B Wride Memorial Park \nFree | Register Today \nParent Registration Form | Child Registration Form \n(All volunteers have been background-checked for safety)
URL:https://pccutah.org/event/vacation-bible-school-2024/
LOCATION:Cory B Wride Memorial Park\, 5806 Pony Express Pkwy\, Eagle Mountain\, UT\, 84005\, United States
CATEGORIES:All Church Events,Student
ATTACH;FMTTYPE=image/jpeg:https://pccutah.org/wp-content/uploads/2024/04/VBS-2024.jpeg
ORGANIZER;CN="Pioneer Community Church":MAILTO:contact@pccutah.org
END:VEVENT
BEGIN:VEVENT
DTSTART;VALUE=DATE:20240606
DTEND;VALUE=DATE:20240610
DTSTAMP:20260423T145401
CREATED:20240307T031527Z
LAST-MODIFIED:20240307T031527Z
UID:3614-1717632000-1717977599@pccutah.org
SUMMARY:Youth Camp
DESCRIPTION:
URL:https://pccutah.org/event/youth-camp-2024/
LOCATION:Cathedral Pines Camp\, HC 64 Box 8296\, Ketchum\, ID\, 83340
CATEGORIES:All Church Events,Student
ATTACH;FMTTYPE=image/jpeg:https://pccutah.org/wp-content/uploads/2024/02/youthcamptemp.jpg
ORGANIZER;CN="Pioneer Community Church":MAILTO:contact@pccutah.org
END:VEVENT
BEGIN:VEVENT
DTSTART;TZID=America/Denver:20231221T180000
DTEND;TZID=America/Denver:20231221T180000
DTSTAMP:20260423T145401
CREATED:20231210T000643Z
LAST-MODIFIED:20231210T000643Z
UID:3448-1703181600-1703181600@pccutah.org
SUMMARY:Student Christmas Party
DESCRIPTION:Students – Grades 6-12 \nBring a White Elephant gift (no more than $10)
URL:https://pccutah.org/event/student-christmas-party-2023/
LOCATION:Smith House\, 7853 Oakwood Road\, Eagle Mountain\, UT\, 84005
CATEGORIES:All Church Events,Student
ATTACH;FMTTYPE=image/jpeg:https://pccutah.org/wp-content/uploads/2023/12/Student-Christmas-Party-2023.jpg
ORGANIZER;CN="Pioneer Community Church":MAILTO:contact@pccutah.org
END:VEVENT
END:VCALENDAR