BEGIN:VCALENDAR
VERSION:2.0
PRODID:-//PIONEER COMMUNITY CHURCH - ECPv6.15.20//NONSGML v1.0//EN
CALSCALE:GREGORIAN
METHOD:PUBLISH
X-WR-CALNAME:PIONEER COMMUNITY CHURCH
X-ORIGINAL-URL:https://pccutah.org
X-WR-CALDESC:Events for PIONEER COMMUNITY CHURCH
REFRESH-INTERVAL;VALUE=DURATION:PT1H
X-Robots-Tag:noindex
X-PUBLISHED-TTL:PT1H
BEGIN:VTIMEZONE
TZID:America/Denver
BEGIN:DAYLIGHT
TZOFFSETFROM:-0700
TZOFFSETTO:-0600
TZNAME:MDT
DTSTART:20240310T090000
END:DAYLIGHT
BEGIN:STANDARD
TZOFFSETFROM:-0600
TZOFFSETTO:-0700
TZNAME:MST
DTSTART:20241103T080000
END:STANDARD
BEGIN:DAYLIGHT
TZOFFSETFROM:-0700
TZOFFSETTO:-0600
TZNAME:MDT
DTSTART:20250309T090000
END:DAYLIGHT
BEGIN:STANDARD
TZOFFSETFROM:-0600
TZOFFSETTO:-0700
TZNAME:MST
DTSTART:20251102T080000
END:STANDARD
BEGIN:DAYLIGHT
TZOFFSETFROM:-0700
TZOFFSETTO:-0600
TZNAME:MDT
DTSTART:20260308T090000
END:DAYLIGHT
BEGIN:STANDARD
TZOFFSETFROM:-0600
TZOFFSETTO:-0700
TZNAME:MST
DTSTART:20261101T080000
END:STANDARD
END:VTIMEZONE
BEGIN:VEVENT
DTSTART;TZID=America/Denver:20251116T180000
DTEND;TZID=America/Denver:20251116T193000
DTSTAMP:20260423T222450
CREATED:20251109T162024Z
LAST-MODIFIED:20251109T162024Z
UID:4482-1763316000-1763321400@pccutah.org
SUMMARY:Friendsgiving
DESCRIPTION:November 16th | 6:00-7:30 pm \nStudents (4th – 12th grade) \nInvite a friend and bring a dish to share! \nTurkey will be provided. \n7853 Oakwood Dr\, EM
URL:https://pccutah.org/event/friendsgiving-2025/
LOCATION:Smith House\, 7853 Oakwood Road\, Eagle Mountain\, UT\, 84005
CATEGORIES:All Church Events,Student
ATTACH;FMTTYPE=image/jpeg:https://pccutah.org/wp-content/uploads/2025/11/friendsgiving-2025.jpg
ORGANIZER;CN="Pioneer Community Church":MAILTO:contact@pccutah.org
END:VEVENT
END:VCALENDAR