BEGIN:VCALENDAR
VERSION:2.0
PRODID:-//PIONEER COMMUNITY CHURCH - ECPv6.15.20//NONSGML v1.0//EN
CALSCALE:GREGORIAN
METHOD:PUBLISH
X-ORIGINAL-URL:https://pccutah.org
X-WR-CALDESC:Events for PIONEER COMMUNITY CHURCH
REFRESH-INTERVAL;VALUE=DURATION:PT1H
X-Robots-Tag:noindex
X-PUBLISHED-TTL:PT1H
BEGIN:VTIMEZONE
TZID:America/Denver
BEGIN:DAYLIGHT
TZOFFSETFROM:-0700
TZOFFSETTO:-0600
TZNAME:MDT
DTSTART:20220313T090000
END:DAYLIGHT
BEGIN:STANDARD
TZOFFSETFROM:-0600
TZOFFSETTO:-0700
TZNAME:MST
DTSTART:20221106T080000
END:STANDARD
BEGIN:DAYLIGHT
TZOFFSETFROM:-0700
TZOFFSETTO:-0600
TZNAME:MDT
DTSTART:20230312T090000
END:DAYLIGHT
BEGIN:STANDARD
TZOFFSETFROM:-0600
TZOFFSETTO:-0700
TZNAME:MST
DTSTART:20231105T080000
END:STANDARD
BEGIN:DAYLIGHT
TZOFFSETFROM:-0700
TZOFFSETTO:-0600
TZNAME:MDT
DTSTART:20240310T090000
END:DAYLIGHT
BEGIN:STANDARD
TZOFFSETFROM:-0600
TZOFFSETTO:-0700
TZNAME:MST
DTSTART:20241103T080000
END:STANDARD
BEGIN:DAYLIGHT
TZOFFSETFROM:-0700
TZOFFSETTO:-0600
TZNAME:MDT
DTSTART:20250309T090000
END:DAYLIGHT
BEGIN:STANDARD
TZOFFSETFROM:-0600
TZOFFSETTO:-0700
TZNAME:MST
DTSTART:20251102T080000
END:STANDARD
BEGIN:DAYLIGHT
TZOFFSETFROM:-0700
TZOFFSETTO:-0600
TZNAME:MDT
DTSTART:20260308T090000
END:DAYLIGHT
BEGIN:STANDARD
TZOFFSETFROM:-0600
TZOFFSETTO:-0700
TZNAME:MST
DTSTART:20261101T080000
END:STANDARD
END:VTIMEZONE
BEGIN:VTIMEZONE
TZID:UTC
BEGIN:STANDARD
TZOFFSETFROM:+0000
TZOFFSETTO:+0000
TZNAME:UTC
DTSTART:20210101T000000
END:STANDARD
END:VTIMEZONE
BEGIN:VEVENT
DTSTART;TZID=America/Denver:20250302T100000
DTEND;TZID=America/Denver:20250302T100000
DTSTAMP:20260423T134456
CREATED:20250121T235913Z
LAST-MODIFIED:20250122T000632Z
UID:4028-1740909600-1740909600@pccutah.org
SUMMARY:We Are Moving to Cedar Valley High School Performing Arts Building
DESCRIPTION:Starting on Sunday\, March 2nd\, our services will be held at Cedar Valley High School in the Performing Arts Building. \n1389 Aviator Ave\, Eagle Mountain\, UT 84005
URL:https://pccutah.org/event/we-are-moving/
LOCATION:Pioneer Community Church\, 1389 Aviator Ave\, Eagle Mountain\, UT\, 84005\, United States
CATEGORIES:All Church Events
ATTACH;FMTTYPE=image/jpeg:https://pccutah.org/wp-content/uploads/2025/01/Cedar-Valley-Performing-Arts-Wide.jpg
ORGANIZER;CN="Pioneer Community Church":MAILTO:contact@pccutah.org
END:VEVENT
BEGIN:VEVENT
DTSTART;TZID=America/Denver:20250119T160000
DTEND;TZID=America/Denver:20250119T180000
DTSTAMP:20260423T134456
CREATED:20250105T143552Z
LAST-MODIFIED:20250105T144257Z
UID:3995-1737302400-1737309600@pccutah.org
SUMMARY:Church-Wide Snow Tubing Event
DESCRIPTION:
URL:https://pccutah.org/event/snow-tubing-2025/
LOCATION:Soldier Hollow Nordic Center\, 2002 Soldier Hollow Ln\, Midway\, UT\, 84049\, United States
CATEGORIES:All Church Events
ATTACH;FMTTYPE=image/jpeg:https://pccutah.org/wp-content/uploads/2025/01/Snow-tubing-2025.jpg
ORGANIZER;CN="Pioneer Community Church":MAILTO:contact@pccutah.org
END:VEVENT
BEGIN:VEVENT
DTSTART;TZID=America/Denver:20241224T163000
DTEND;TZID=America/Denver:20241224T163000
DTSTAMP:20260423T134456
CREATED:20241104T005334Z
LAST-MODIFIED:20241106T005217Z
UID:3912-1735057800-1735057800@pccutah.org
SUMMARY:Christmas Eve Service
DESCRIPTION:Christmas Eve Service on 12/24 at 4:30pm.
URL:https://pccutah.org/event/christmas-eve-service-2024/
LOCATION:Gotta Dance\, 4038 N. Ira Hodges Scenic Pkwy\, Eagle Mountain\, UT\, United States
CATEGORIES:All Church Events
ATTACH;FMTTYPE=image/jpeg:https://pccutah.org/wp-content/uploads/2024/11/christmaseve2024.jpg
ORGANIZER;CN="Pioneer Community Church":MAILTO:contact@pccutah.org
END:VEVENT
BEGIN:VEVENT
DTSTART;TZID=America/Denver:20241201T113000
DTEND;TZID=America/Denver:20241201T113000
DTSTAMP:20260423T134456
CREATED:20241104T004607Z
LAST-MODIFIED:20241104T005657Z
UID:3910-1733052600-1733052600@pccutah.org
SUMMARY:Church Member’s Meeting
DESCRIPTION:Church Member’s Meeting on Sunday 12/1 immediately after the service.
URL:https://pccutah.org/event/members-meeting-2024-12/
LOCATION:Gotta Dance\, 4038 N. Ira Hodges Scenic Pkwy\, Eagle Mountain\, UT\, United States
CATEGORIES:All Church Events
ATTACH;FMTTYPE=image/png:https://pccutah.org/wp-content/uploads/2024/03/church-logo.png
ORGANIZER;CN="Pioneer Community Church":MAILTO:contact@pccutah.org
END:VEVENT
BEGIN:VEVENT
DTSTART;VALUE=DATE:20240625
DTEND;VALUE=DATE:20240629
DTSTAMP:20260423T134456
CREATED:20240421T141758Z
LAST-MODIFIED:20240421T142147Z
UID:3667-1719273600-1719619199@pccutah.org
SUMMARY:VBS 2024
DESCRIPTION:Games | Crafts | Snacks | Music | Bible Stories| Fun \nJune 25 – June 28 | 9am-Noon | Grades K-5 \nCory B Wride Memorial Park \nFree | Register Today \nParent Registration Form | Child Registration Form \n(All volunteers have been background-checked for safety)
URL:https://pccutah.org/event/vacation-bible-school-2024/
LOCATION:Cory B Wride Memorial Park\, 5806 Pony Express Pkwy\, Eagle Mountain\, UT\, 84005\, United States
CATEGORIES:All Church Events,Student
ATTACH;FMTTYPE=image/jpeg:https://pccutah.org/wp-content/uploads/2024/04/VBS-2024.jpeg
ORGANIZER;CN="Pioneer Community Church":MAILTO:contact@pccutah.org
END:VEVENT
BEGIN:VEVENT
DTSTART;VALUE=DATE:20240606
DTEND;VALUE=DATE:20240610
DTSTAMP:20260423T134456
CREATED:20240307T031527Z
LAST-MODIFIED:20240307T031527Z
UID:3614-1717632000-1717977599@pccutah.org
SUMMARY:Youth Camp
DESCRIPTION:
URL:https://pccutah.org/event/youth-camp-2024/
LOCATION:Cathedral Pines Camp\, HC 64 Box 8296\, Ketchum\, ID\, 83340
CATEGORIES:All Church Events,Student
ATTACH;FMTTYPE=image/jpeg:https://pccutah.org/wp-content/uploads/2024/02/youthcamptemp.jpg
ORGANIZER;CN="Pioneer Community Church":MAILTO:contact@pccutah.org
END:VEVENT
BEGIN:VEVENT
DTSTART;TZID=America/Denver:20240420T090000
DTEND;TZID=America/Denver:20240420T160000
DTSTAMP:20260423T134456
CREATED:20240317T142633Z
LAST-MODIFIED:20240324T205015Z
UID:3625-1713603600-1713628800@pccutah.org
SUMMARY:Secret Church 24
DESCRIPTION:Join us for Secret Church 24. \nReach out with any questions or to RSVP. \n(Lunch will be provided.)
URL:https://pccutah.org/event/secret-church-24/
LOCATION:Todd House\, 4006 N Wood Rd\, Eagle Mountain\, UT\, 84005
CATEGORIES:All Church Events
ATTACH;FMTTYPE=image/png:https://pccutah.org/wp-content/uploads/2024/03/Secret-Church-2024.png
ORGANIZER;CN="Pioneer Community Church":MAILTO:contact@pccutah.org
END:VEVENT
BEGIN:VEVENT
DTSTART;TZID=America/Denver:20240310T190000
DTEND;TZID=America/Denver:20240310T200000
DTSTAMP:20260423T134456
CREATED:20240303T154126Z
LAST-MODIFIED:20240303T154126Z
UID:3596-1710097200-1710100800@pccutah.org
SUMMARY:Church Membership Class
DESCRIPTION:Classes will be on February 25\, March 3rd\, and March 10th from 7:00 – 8:00. \nNo dinner provided but we will have childcare. Please RSVP @ Membership Class RSVP.
URL:https://pccutah.org/event/church-membership-class-2024c/
LOCATION:Smith House\, 7853 Oakwood Road\, Eagle Mountain\, UT\, 84005
CATEGORIES:All Church Events
ATTACH;FMTTYPE=image/png:https://pccutah.org/wp-content/uploads/2024/01/Membership-Class-Updated.png
ORGANIZER;CN="Pioneer Community Church":MAILTO:contact@pccutah.org
END:VEVENT
BEGIN:VEVENT
DTSTART;TZID=America/Denver:20240309T090000
DTEND;TZID=America/Denver:20240309T090000
DTSTAMP:20260423T134456
CREATED:20240303T170658Z
LAST-MODIFIED:20240303T184203Z
UID:3598-1709974800-1709974800@pccutah.org
SUMMARY:Men's Breakfast
DESCRIPTION:
URL:https://pccutah.org/event/mens-breakfast-2024-03/
LOCATION:Todd House\, 4006 N Wood Rd\, Eagle Mountain\, UT\, 84005
CATEGORIES:All Church Events
ATTACH;FMTTYPE=image/jpeg:https://pccutah.org/wp-content/uploads/2024/03/72f3126b-db80-4508-90c5-ae513a4a46b2.jpg
ORGANIZER;CN="Pioneer Community Church":MAILTO:contact@pccutah.org
END:VEVENT
BEGIN:VEVENT
DTSTART;TZID=America/Denver:20240303T190000
DTEND;TZID=America/Denver:20240303T200000
DTSTAMP:20260423T134456
CREATED:20240125T033446Z
LAST-MODIFIED:20240303T154009Z
UID:3512-1709492400-1709496000@pccutah.org
SUMMARY:Church Membership Class
DESCRIPTION:Classes will be on February 25\, March 3rd\, and March 10th from 7:00 – 8:00. \nNo dinner provided but we will have childcare. Please RSVP @ Membership Class RSVP.
URL:https://pccutah.org/event/church-membership-class-2024b/
LOCATION:Smith House\, 7853 Oakwood Road\, Eagle Mountain\, UT\, 84005
CATEGORIES:All Church Events
ATTACH;FMTTYPE=image/png:https://pccutah.org/wp-content/uploads/2024/01/Membership-Class-Updated.png
ORGANIZER;CN="Pioneer Community Church":MAILTO:contact@pccutah.org
END:VEVENT
BEGIN:VEVENT
DTSTART;TZID=America/Denver:20240225T190000
DTEND;TZID=America/Denver:20240225T200000
DTSTAMP:20260423T134456
CREATED:20240125T033348Z
LAST-MODIFIED:20240303T153949Z
UID:3510-1708887600-1708891200@pccutah.org
SUMMARY:Church Membership Class
DESCRIPTION:Classes will be on February 25\, March 3rd\, and March 10th from 7:00 – 8:00. \nNo dinner provided but we will have childcare. Please RSVP @ Membership Class RSVP.
URL:https://pccutah.org/event/church-membership-class-2024a/
LOCATION:Smith House\, 7853 Oakwood Road\, Eagle Mountain\, UT\, 84005
CATEGORIES:All Church Events
ATTACH;FMTTYPE=image/png:https://pccutah.org/wp-content/uploads/2024/01/Membership-Class-Updated.png
ORGANIZER;CN="Pioneer Community Church":MAILTO:contact@pccutah.org
END:VEVENT
BEGIN:VEVENT
DTSTART;TZID=America/Denver:20240210T080000
DTEND;TZID=America/Denver:20240210T080000
DTSTAMP:20260423T134456
CREATED:20240131T005809Z
LAST-MODIFIED:20240131T160706Z
UID:3527-1707552000-1707552000@pccutah.org
SUMMARY:Church Ski Day
DESCRIPTION:So many of our people love to ski and snowboard so we are organizing a church ski day. \nLocation: Solitude Mountain Resort \nDate: February 10th 2024 \nStart Time: Lifts open at 8 am \nWhether you park on the street or at Solitude\, a parking reservation is required. We recommend getting to the mouth of Big Cottonwood Canyon by no later than 7 am to get street parking. If you have a Solitude parking reservation\, you can get there anytime before 1 pm. \nLot Parking Information: Solitude Parking Information \nStreet Parking Information: ParkBCC \nLift Tickets: Solitude Lift Tickets \nJoe & Emma Kirchner and Alex Hoenack can get 25% discounted lift tickets for up to 8 people each (24 people total). Please reach out to Emma Kirchner to coordinate –  (408) 637-1393 via text. \nIf you have any questions\, feel free to text Emma at the number above.  Also\, please RSVP (to Emma) by Sunday\, February 4th\, so we can organize carpooling for cheaper parking 🙂
URL:https://pccutah.org/event/church-ski-day/
LOCATION:Solitude Mountain Resort\, 12000 Big Cottonwood Canyon Rd\, Solitude\, UT\, 84121\, United States
CATEGORIES:All Church Events
ATTACH;FMTTYPE=image/jpeg:https://pccutah.org/wp-content/uploads/2024/01/church-ski-day.jpg
END:VEVENT
BEGIN:VEVENT
DTSTART;TZID=America/Denver:20240204T180000
DTEND;TZID=America/Denver:20240204T193000
DTSTAMP:20260423T134456
CREATED:20240125T032618Z
LAST-MODIFIED:20240125T032618Z
UID:3503-1707069600-1707075000@pccutah.org
SUMMARY:Baptism Information Class
DESCRIPTION:This is a baptism class for anyone interested in taking the next step of faith by being baptized. \nThis class will be held on February 4th\, 6:00 – 7:30 at Pastor Barry’s house (7853 Oakwood Drive\, EM). \nPizza and childcare will be provided. Please RSVP @ Baptism Class RSVP.
URL:https://pccutah.org/event/baptism-info-class-2024/
LOCATION:Smith House\, 7853 Oakwood Road\, Eagle Mountain\, UT\, 84005
CATEGORIES:All Church Events
ATTACH;FMTTYPE=image/png:https://pccutah.org/wp-content/uploads/2024/01/image0.png
ORGANIZER;CN="Pioneer Community Church":MAILTO:contact@pccutah.org
END:VEVENT
BEGIN:VEVENT
DTSTART;TZID=America/Denver:20231221T180000
DTEND;TZID=America/Denver:20231221T180000
DTSTAMP:20260423T134456
CREATED:20231210T000643Z
LAST-MODIFIED:20231210T000643Z
UID:3448-1703181600-1703181600@pccutah.org
SUMMARY:Student Christmas Party
DESCRIPTION:Students – Grades 6-12 \nBring a White Elephant gift (no more than $10)
URL:https://pccutah.org/event/student-christmas-party-2023/
LOCATION:Smith House\, 7853 Oakwood Road\, Eagle Mountain\, UT\, 84005
CATEGORIES:All Church Events,Student
ATTACH;FMTTYPE=image/jpeg:https://pccutah.org/wp-content/uploads/2023/12/Student-Christmas-Party-2023.jpg
ORGANIZER;CN="Pioneer Community Church":MAILTO:contact@pccutah.org
END:VEVENT
BEGIN:VEVENT
DTSTART;TZID=America/Denver:20231216T170000
DTEND;TZID=America/Denver:20231216T200000
DTSTAMP:20260423T134456
CREATED:20231210T001511Z
LAST-MODIFIED:20231210T001637Z
UID:3451-1702746000-1702756800@pccutah.org
SUMMARY:Progressive Christmas Dinner
DESCRIPTION:Progressive Christmas Dinner \nDecember 16\, 2023 ~ 5:00pm \nJoin us for an evening of food and fellowship! We will caravan from the Todd’s house to each additional house. Please RSVP if possible with Jen (385) 630-1793 or by email: contact@pccutah.org to help ensure we have plenty of food to share. No need to bring anything. \n1st House: John & Lisa Todd ~ Appetizer \n(4006 N Wood Rd\, 84005) \n2nd House: Linda Rogers ~ Main Course \n3rd House: Nate & Brianna Bray ~ Dessert \n 
URL:https://pccutah.org/event/progressive-christmas-dinner-2023/
LOCATION:Todd House\, 4006 N Wood Rd\, Eagle Mountain\, UT\, 84005
CATEGORIES:All Church Events
ATTACH;FMTTYPE=image/jpeg:https://pccutah.org/wp-content/uploads/2023/12/Progressive-Dinner-23.jpg
ORGANIZER;CN="Pioneer Community Church":MAILTO:contact@pccutah.org
END:VEVENT
BEGIN:VEVENT
DTSTART;TZID=America/Denver:20231126T183000
DTEND;TZID=America/Denver:20231126T200000
DTSTAMP:20260423T134456
CREATED:20231118T173156Z
LAST-MODIFIED:20231118T173156Z
UID:3433-1701023400-1701028800@pccutah.org
SUMMARY:Journey of Grace
DESCRIPTION:A discipleship film series to help Latter Day Saints know the Truth about Jesus and the Bible.
URL:https://pccutah.org/event/journey-of-grace-7/
LOCATION:Smith House\, 7853 Oakwood Road\, Eagle Mountain\, UT\, 84005
CATEGORIES:All Church Events
ATTACH;FMTTYPE=image/jpeg:https://pccutah.org/wp-content/uploads/2023/08/JoG.jpg
ORGANIZER;CN="Pioneer Community Church":MAILTO:contact@pccutah.org
END:VEVENT
BEGIN:VEVENT
DTSTART;TZID=America/Denver:20231119T183000
DTEND;TZID=America/Denver:20231119T200000
DTSTAMP:20260423T134456
CREATED:20231118T172858Z
LAST-MODIFIED:20231118T172858Z
UID:3431-1700418600-1700424000@pccutah.org
SUMMARY:Journey of Grace
DESCRIPTION:A discipleship film series to help Latter Day Saints know the Truth about Jesus and the Bible.
URL:https://pccutah.org/event/journey-of-grace-6/
LOCATION:Smith House\, 7853 Oakwood Road\, Eagle Mountain\, UT\, 84005
CATEGORIES:All Church Events
ATTACH;FMTTYPE=image/jpeg:https://pccutah.org/wp-content/uploads/2023/08/JoG.jpg
ORGANIZER;CN="Pioneer Community Church":MAILTO:contact@pccutah.org
END:VEVENT
BEGIN:VEVENT
DTSTART;TZID=America/Denver:20231112T183000
DTEND;TZID=America/Denver:20231112T200000
DTSTAMP:20260423T134456
CREATED:20231118T172727Z
LAST-MODIFIED:20231118T172727Z
UID:3429-1699813800-1699819200@pccutah.org
SUMMARY:Journey of Grace
DESCRIPTION:A discipleship film series to help Latter Day Saints know the Truth about Jesus and the Bible.
URL:https://pccutah.org/event/journey-of-grace-5/
LOCATION:Smith House\, 7853 Oakwood Road\, Eagle Mountain\, UT\, 84005
CATEGORIES:All Church Events
ATTACH;FMTTYPE=image/jpeg:https://pccutah.org/wp-content/uploads/2023/08/JoG.jpg
ORGANIZER;CN="Pioneer Community Church":MAILTO:contact@pccutah.org
END:VEVENT
BEGIN:VEVENT
DTSTART;TZID=America/Denver:20231105T183000
DTEND;TZID=America/Denver:20231105T200000
DTSTAMP:20260423T134456
CREATED:20230902T020432Z
LAST-MODIFIED:20231118T172255Z
UID:3330-1699209000-1699214400@pccutah.org
SUMMARY:Journey of Grace
DESCRIPTION:A discipleship film series to help Latter Day Saints know the Truth about Jesus and the Bible.
URL:https://pccutah.org/event/journey-of-grace-4/
LOCATION:Smith House\, 7853 Oakwood Road\, Eagle Mountain\, UT\, 84005
CATEGORIES:All Church Events
ATTACH;FMTTYPE=image/jpeg:https://pccutah.org/wp-content/uploads/2023/08/JoG.jpg
ORGANIZER;CN="Pioneer Community Church":MAILTO:contact@pccutah.org
END:VEVENT
BEGIN:VEVENT
DTSTART;TZID=America/Denver:20231029T183000
DTEND;TZID=America/Denver:20231029T200000
DTSTAMP:20260423T134456
CREATED:20230902T020307Z
LAST-MODIFIED:20231118T172123Z
UID:3328-1698604200-1698609600@pccutah.org
SUMMARY:Journey of Grace
DESCRIPTION:A discipleship film series to help Latter Day Saints know the Truth about Jesus and the Bible.
URL:https://pccutah.org/event/journey-of-grace-3/
LOCATION:Smith House\, 7853 Oakwood Road\, Eagle Mountain\, UT\, 84005
CATEGORIES:All Church Events
ATTACH;FMTTYPE=image/jpeg:https://pccutah.org/wp-content/uploads/2023/08/JoG.jpg
ORGANIZER;CN="Pioneer Community Church":MAILTO:contact@pccutah.org
END:VEVENT
BEGIN:VEVENT
DTSTART;TZID=America/Denver:20231015T183000
DTEND;TZID=America/Denver:20231015T200000
DTSTAMP:20260423T134456
CREATED:20230902T020202Z
LAST-MODIFIED:20231118T172017Z
UID:3326-1697394600-1697400000@pccutah.org
SUMMARY:Journey of Grace
DESCRIPTION:A discipleship film series to help Latter Day Saints know the Truth about Jesus and the Bible.
URL:https://pccutah.org/event/journey-of-grace-2/
LOCATION:Smith House\, 7853 Oakwood Road\, Eagle Mountain\, UT\, 84005
CATEGORIES:All Church Events
ATTACH;FMTTYPE=image/jpeg:https://pccutah.org/wp-content/uploads/2023/08/JoG.jpg
ORGANIZER;CN="Pioneer Community Church":MAILTO:contact@pccutah.org
END:VEVENT
BEGIN:VEVENT
DTSTART;TZID=America/Denver:20231008T183000
DTEND;TZID=America/Denver:20231008T200000
DTSTAMP:20260423T134456
CREATED:20230902T015408Z
LAST-MODIFIED:20231118T171902Z
UID:3324-1696789800-1696795200@pccutah.org
SUMMARY:Journey of Grace
DESCRIPTION:A discipleship film series to help Latter Day Saints know the Truth about Jesus and the Bible.
URL:https://pccutah.org/event/journey-of-grace-1/
LOCATION:Smith House\, 7853 Oakwood Road\, Eagle Mountain\, UT\, 84005
CATEGORIES:All Church Events
ATTACH;FMTTYPE=image/jpeg:https://pccutah.org/wp-content/uploads/2023/08/JoG.jpg
ORGANIZER;CN="Pioneer Community Church":MAILTO:contact@pccutah.org
END:VEVENT
BEGIN:VEVENT
DTSTART;TZID=America/Denver:20230917T100000
DTEND;TZID=America/Denver:20230917T133000
DTSTAMP:20260423T134456
CREATED:20230901T030805Z
LAST-MODIFIED:20230901T030805Z
UID:3297-1694944800-1694957400@pccutah.org
SUMMARY:Baptism Sunday
DESCRIPTION:Come celebrate baptisms with us! We will have our normal service at 10:10 and baptisms following the service. Once the baptisms are completed\, we will have lunch at the church and enjoy a time of food and fellowship. The church will provide lunch and if you would like you can bring a two-liter of your favorite soft drink.
URL:https://pccutah.org/event/baptism-sunday-2023-09/
LOCATION:Gotta Dance\, 4038 N. Ira Hodges Scenic Pkwy\, Eagle Mountain\, UT\, United States
CATEGORIES:All Church Events
ATTACH;FMTTYPE=image/jpeg:https://pccutah.org/wp-content/uploads/2021/08/Logo.jpg
ORGANIZER;CN="Pioneer Community Church":MAILTO:contact@pccutah.org
END:VEVENT
BEGIN:VEVENT
DTSTART;VALUE=DATE:20230627
DTEND;VALUE=DATE:20230701
DTSTAMP:20260423T134456
CREATED:20220526T073117Z
LAST-MODIFIED:20230425T072218Z
UID:2634-1687824000-1688169599@pccutah.org
SUMMARY:VBS 2023
DESCRIPTION:Games | Crafts | Snacks | Music | Bible Stories| Fun \nJune 27 – June 30 | 9am-Noon | Grades K-5 \nCory Wride Memorial Park \nFree | Register Today \n(All volunteers have been background-checked for safety)
URL:https://pccutah.org/event/vacation-bible-school-2023/
LOCATION:Cory B Wride Memorial Park\, 5806 Pony Express Pkwy\, Eagle Mountain\, UT\, 84005\, United States
CATEGORIES:All Church Events
ATTACH;FMTTYPE=image/jpeg:https://pccutah.org/wp-content/uploads/2023/04/Apr_13_2023_2_09_38.jpg
ORGANIZER;CN="Pioneer Community Church":MAILTO:contact@pccutah.org
END:VEVENT
BEGIN:VEVENT
DTSTART;TZID=UTC:20230212T160000
DTEND;TZID=UTC:20230212T200000
DTSTAMP:20260423T134456
CREATED:20230210T021814Z
LAST-MODIFIED:20230210T021814Z
UID:3068-1676217600-1676232000@pccutah.org
SUMMARY:Superbowl Party
DESCRIPTION:Bring a finger food or dessert. Come for the game\, the commercials\, the food\, or the friends!
URL:https://pccutah.org/event/superbowl-party/
LOCATION:Smith House\, 7853 Oakwood Road\, Eagle Mountain\, UT\, 84005
CATEGORIES:All Church Events
ATTACH;FMTTYPE=image/jpeg:https://pccutah.org/wp-content/uploads/2023/02/329159805_550109520516409_682221229254847793_n.jpeg
ORGANIZER;CN="Pioneer Community Church":MAILTO:contact@pccutah.org
END:VEVENT
BEGIN:VEVENT
DTSTART;TZID=UTC:20221224T100000
DTEND;TZID=UTC:20221224T113000
DTSTAMP:20260423T134456
CREATED:20221130T051905Z
LAST-MODIFIED:20221130T051905Z
UID:2938-1671876000-1671881400@pccutah.org
SUMMARY:Christmas Eve
DESCRIPTION:Christmas Eve Family Service\n\nThe Christmas story for all ages. \nCome sing carols with your neighbors. \n\nDonuts & Drinks – 10:00-10:30 AM \nService Time – 10:30-11:30 AM \nGotta Dance Studios \n4038 Ira Hodges Scenic Pkwy \nEagle Mountain
URL:https://pccutah.org/event/christmas-eve/
LOCATION:Gotta Dance\, 4038 N. Ira Hodges Scenic Pkwy\, Eagle Mountain\, UT\, United States
CATEGORIES:All Church Events
ATTACH;FMTTYPE=image/jpeg:https://pccutah.org/wp-content/uploads/2022/11/Christmas-Eve-Service-scaled.jpg
ORGANIZER;CN="Pioneer Community Church":MAILTO:contact@pccutah.org
END:VEVENT
BEGIN:VEVENT
DTSTART;TZID=UTC:20221210T170000
DTEND;TZID=UTC:20221210T210000
DTSTAMP:20260423T134456
CREATED:20221116T040059Z
LAST-MODIFIED:20231210T000531Z
UID:2922-1670691600-1670706000@pccutah.org
SUMMARY:Progressive Christmas Dinner
DESCRIPTION:Progressive Christmas Dinner \nDecember 10\, 2022 ~ 5:00pm \nJoin us for an evening of food and fellowship! We will caravan from the Smith’s house to each additional house. Please RSVP if possible via our Facebook event or by email: contact@PCCUtah.org to help ensure we have plenty of food to share. No need to bring anything. \n1st House: Smith’s ~Appetizers \n(7853 Oakwood Dr.\, 84005) \n2nd House: Linda Rogers’ ~ Soup & Salad \n3rd House: Todd’s ~ Main Course \n4th House: Cooper’s ~ Dessert \n 
URL:https://pccutah.org/event/progressive-christmas-dinner-2022/
LOCATION:Smith House\, 7853 Oakwood Road\, Eagle Mountain\, UT\, 84005
CATEGORIES:All Church Events
ATTACH;FMTTYPE=image/jpeg:https://pccutah.org/wp-content/uploads/2022/11/Progressive-Dinner-2.jpeg
ORGANIZER;CN="Pioneer Community Church":MAILTO:contact@pccutah.org
END:VEVENT
BEGIN:VEVENT
DTSTART;TZID=UTC:20221001T080000
DTEND;TZID=UTC:20221001T100000
DTSTAMP:20260423T134456
CREATED:20220828T035839Z
LAST-MODIFIED:20220901T022431Z
UID:2843-1664611200-1664618400@pccutah.org
SUMMARY:Ladies' Coffee
DESCRIPTION:Ladies’ Coffee \nOctober 1\, 2022 – 8 AM \nSaratoga Springs Starbucks – 689 N Redwood Rd
URL:https://pccutah.org/event/ladies-coffee/
LOCATION:Saratoga Springs Starbucks\, 153 Crossroads Blvd\, Saratoga Springs\, UT\, 84043
CATEGORIES:All Church Events
ATTACH;FMTTYPE=image/jpeg:https://pccutah.org/wp-content/uploads/2022/08/starbucks-gf2427e45b_1920.jpg
ORGANIZER;CN="Pioneer Community Church":MAILTO:contact@pccutah.org
END:VEVENT
BEGIN:VEVENT
DTSTART;TZID=UTC:20220924T080000
DTEND;TZID=UTC:20220924T110000
DTSTAMP:20260423T134456
CREATED:20220828T034843Z
LAST-MODIFIED:20220901T022406Z
UID:2840-1664006400-1664017200@pccutah.org
SUMMARY:Men's Breakfast
DESCRIPTION:Enjoy a time of good food and fellowship. \nAfter breakfast\, we will be working on the church’s trailer. \nWe will be meeting at John and Lisa’s home. RSVP ASAP \nSeptember 24\, 2022 – 8 to 11 AM
URL:https://pccutah.org/event/mens-breakfast/
CATEGORIES:All Church Events
ATTACH;FMTTYPE=image/jpeg:https://pccutah.org/wp-content/uploads/2022/08/pexels-julian-jagtenberg-103124-scaled.jpg
ORGANIZER;CN="Pioneer Community Church":MAILTO:contact@pccutah.org
END:VEVENT
BEGIN:VEVENT
DTSTART;TZID=UTC:20220918T170000
DTEND;TZID=UTC:20220918T200000
DTSTAMP:20260423T134456
CREATED:20220828T033908Z
LAST-MODIFIED:20220828T033908Z
UID:2836-1663520400-1663531200@pccutah.org
SUMMARY:Cookout & S'mores!
DESCRIPTION:The church will provide meat & s’more fixings. \nPlease place to bring sides\, chips\, and/or drinks to share. \nLittle Mill Group Campgound\, American Fork Canyon \nSeptember 18\, 2022 – 5-8 PM
URL:https://pccutah.org/event/cookout-smores/
LOCATION:Little Mill Group Campground\, Little Mill Campground Rd\, Provo\, UTAH\, 84604
CATEGORIES:All Church Events
ATTACH;FMTTYPE=image/jpeg:https://pccutah.org/wp-content/uploads/2022/08/StockSnap_PBB6NER08E-scaled.jpg
ORGANIZER;CN="Pioneer Community Church":MAILTO:contact@pccutah.org
END:VEVENT
END:VCALENDAR