BEGIN:VCALENDAR
VERSION:2.0
PRODID:-//PIONEER COMMUNITY CHURCH - ECPv6.15.20//NONSGML v1.0//EN
CALSCALE:GREGORIAN
METHOD:PUBLISH
X-WR-CALNAME:PIONEER COMMUNITY CHURCH
X-ORIGINAL-URL:https://pccutah.org
X-WR-CALDESC:Events for PIONEER COMMUNITY CHURCH
REFRESH-INTERVAL;VALUE=DURATION:PT1H
X-Robots-Tag:noindex
X-PUBLISHED-TTL:PT1H
BEGIN:VTIMEZONE
TZID:America/Denver
BEGIN:DAYLIGHT
TZOFFSETFROM:-0700
TZOFFSETTO:-0600
TZNAME:MDT
DTSTART:20230312T090000
END:DAYLIGHT
BEGIN:STANDARD
TZOFFSETFROM:-0600
TZOFFSETTO:-0700
TZNAME:MST
DTSTART:20231105T080000
END:STANDARD
BEGIN:DAYLIGHT
TZOFFSETFROM:-0700
TZOFFSETTO:-0600
TZNAME:MDT
DTSTART:20240310T090000
END:DAYLIGHT
BEGIN:STANDARD
TZOFFSETFROM:-0600
TZOFFSETTO:-0700
TZNAME:MST
DTSTART:20241103T080000
END:STANDARD
BEGIN:DAYLIGHT
TZOFFSETFROM:-0700
TZOFFSETTO:-0600
TZNAME:MDT
DTSTART:20250309T090000
END:DAYLIGHT
BEGIN:STANDARD
TZOFFSETFROM:-0600
TZOFFSETTO:-0700
TZNAME:MST
DTSTART:20251102T080000
END:STANDARD
BEGIN:DAYLIGHT
TZOFFSETFROM:-0700
TZOFFSETTO:-0600
TZNAME:MDT
DTSTART:20260308T090000
END:DAYLIGHT
BEGIN:STANDARD
TZOFFSETFROM:-0600
TZOFFSETTO:-0700
TZNAME:MST
DTSTART:20261101T080000
END:STANDARD
BEGIN:DAYLIGHT
TZOFFSETFROM:-0700
TZOFFSETTO:-0600
TZNAME:MDT
DTSTART:20270314T090000
END:DAYLIGHT
BEGIN:STANDARD
TZOFFSETFROM:-0600
TZOFFSETTO:-0700
TZNAME:MST
DTSTART:20271107T080000
END:STANDARD
END:VTIMEZONE
BEGIN:VEVENT
DTSTART;TZID=America/Denver:20260418T090000
DTEND;TZID=America/Denver:20260418T150000
DTSTAMP:20260423T101909
CREATED:20260214T183700Z
LAST-MODIFIED:20260214T183750Z
UID:4593-1776502800-1776524400@pccutah.org
SUMMARY:Feed My Sheep
DESCRIPTION:Feed My Sheep \nSaturday\, April 18th 9am – 3pm \nRedeeming Life Church \n696 N 400 E\, Bountiful\, UT 84010
URL:https://pccutah.org/event/feed-my-sheep-2026/
LOCATION:Redeeming Life Church\, 696 N 400 E\, Bountiful\, UT\, 84010\, United States
CATEGORIES:All Church Events
ATTACH;FMTTYPE=image/png:https://pccutah.org/wp-content/uploads/2026/02/FMS-2026-scaled.png
ORGANIZER;CN="Pioneer Community Church":MAILTO:contact@pccutah.org
END:VEVENT
BEGIN:VEVENT
DTSTART;TZID=America/Denver:20260411T140000
DTEND;TZID=America/Denver:20260411T160000
DTSTAMP:20260423T101909
CREATED:20260301T153743Z
LAST-MODIFIED:20260301T153743Z
UID:4618-1775916000-1775923200@pccutah.org
SUMMARY:PCC Ladies Event
DESCRIPTION:Beadology – Jewelry Workshop \nSaturday\, April 11th 2pm – 4pm \nCost: $10 \n4801 N University Ave Suite #480\, Provo\, UT 84604 \nRSVP to Jen via text @ 385-630-1793 by 3/31/2026
URL:https://pccutah.org/event/pcc-ladies-2026/
LOCATION:Valore\, 4801 N University Ave Suite #480\, Provo\, UT 84604\, Provo\, UT\, 84604\, United States
CATEGORIES:All Church Events
ATTACH;FMTTYPE=image/jpeg:https://pccutah.org/wp-content/uploads/2026/03/pcc-ladies-2026.jpg
ORGANIZER;CN="Jennifer Smith":MAILTO:jennifersmith@pccutah.org
END:VEVENT
BEGIN:VEVENT
DTSTART;TZID=America/Denver:20260325T160000
DTEND;TZID=America/Denver:20260325T173000
DTSTAMP:20260423T101909
CREATED:20260322T151040Z
LAST-MODIFIED:20260322T151040Z
UID:4643-1774454400-1774459800@pccutah.org
SUMMARY:Trusting God
DESCRIPTION:Trusting God as we follow His Word \nWednesday\, March 25th 4pm – 5:30pm \nSilver Lake Amphitheater Park \nScavenger Hunt & Donuts!
URL:https://pccutah.org/event/trusting-god-2026/
LOCATION:Silver Lake Amphitheater Park\, Silver Lake Amphitheater\, Pony Express Parkway\, Eagle Mountain\, UT\, 84005\, United States
CATEGORIES:All Church Events,Student
ATTACH;FMTTYPE=image/jpeg:https://pccutah.org/wp-content/uploads/2026/03/2026-Trusting-God-scaled.jpg
ORGANIZER;CN="Pioneer Community Church":MAILTO:contact@pccutah.org
END:VEVENT
BEGIN:VEVENT
DTSTART;TZID=America/Denver:20260222T123000
DTEND;TZID=America/Denver:20260222T123000
DTSTAMP:20260423T101909
CREATED:20260214T182834Z
LAST-MODIFIED:20260214T182834Z
UID:4587-1771763400-1771763400@pccutah.org
SUMMARY:Meet the Pastors
DESCRIPTION:Meet the Pastors \nSunday\, February 22nd 12:30pm \nPizza Hut \n1388 Eagle Mountain Blvd
URL:https://pccutah.org/event/meet-the-pastors-2026/
LOCATION:Pizza Hut Eagle Mountain\, 1388 Eagle Mountain Blvd\, Eagle Mountain\, UT\, 84005\, United States
CATEGORIES:All Church Events
ATTACH;FMTTYPE=image/png:https://pccutah.org/wp-content/uploads/2026/02/Meet-Pastors-2026.png
ORGANIZER;CN="Pioneer Community Church":MAILTO:contact@pccutah.org
END:VEVENT
BEGIN:VEVENT
DTSTART;TZID=America/Denver:20260117T113000
DTEND;TZID=America/Denver:20260117T140000
DTSTAMP:20260423T101909
CREATED:20260111T153330Z
LAST-MODIFIED:20260111T153330Z
UID:4554-1768649400-1768658400@pccutah.org
SUMMARY:PCC Men's Top Golf Event
DESCRIPTION:
URL:https://pccutah.org/event/top-golf-2026/
LOCATION:Top Golf Vineyard\, 484 N Entertainment Way\, Vineyard\, UT 84059\, UT\, 84059\, United States
CATEGORIES:All Church Events
ATTACH;FMTTYPE=image/jpeg:https://pccutah.org/wp-content/uploads/2026/01/top-golf-2026.jpg
ORGANIZER;CN="Pioneer Community Church":MAILTO:contact@pccutah.org
END:VEVENT
BEGIN:VEVENT
DTSTART;TZID=America/Denver:20251224T160000
DTEND;TZID=America/Denver:20251224T160000
DTSTAMP:20260423T101909
CREATED:20251221T042312Z
LAST-MODIFIED:20251221T042441Z
UID:4526-1766592000-1766592000@pccutah.org
SUMMARY:Christmas Eve Service
DESCRIPTION:
URL:https://pccutah.org/event/christmas-eve-2025/
LOCATION:Pioneer Community Church\, 1389 Aviator Ave\, Eagle Mountain\, UT\, 84005\, United States
CATEGORIES:All Church Events
ATTACH;FMTTYPE=image/jpeg:https://pccutah.org/wp-content/uploads/2025/12/2025-12-24.jpg
ORGANIZER;CN="Pioneer Community Church":MAILTO:contact@pccutah.org
END:VEVENT
BEGIN:VEVENT
DTSTART;TZID=America/Denver:20251214T180000
DTEND;TZID=America/Denver:20251214T193000
DTSTAMP:20260423T101909
CREATED:20251109T161407Z
LAST-MODIFIED:20251109T161407Z
UID:4480-1765735200-1765740600@pccutah.org
SUMMARY:Faith\, Food\, & Fun
DESCRIPTION:Students \nGrades 4th – 12th \nDecember 14th | 6:00-7:30 pm \n7853 Oakwood Dr\, EM
URL:https://pccutah.org/event/students-2025-12/
LOCATION:Smith House\, 7853 Oakwood Road\, Eagle Mountain\, UT\, 84005
CATEGORIES:All Church Events,Student
ATTACH;FMTTYPE=image/jpeg:https://pccutah.org/wp-content/uploads/2025/11/students-2025-12.jpg
ORGANIZER;CN="Pioneer Community Church":MAILTO:contact@pccutah.org
END:VEVENT
BEGIN:VEVENT
DTSTART;VALUE=DATE:20251130
DTEND;VALUE=DATE:20251201
DTSTAMP:20260423T101909
CREATED:20251123T193846Z
LAST-MODIFIED:20251123T195857Z
UID:4500-1764460800-1764547199@pccutah.org
SUMMARY:Baptism Sunday
DESCRIPTION:Come celebrate baptism with us! We will have our normal service at 10:10 and baptism following the service.
URL:https://pccutah.org/event/baptism-sunday-2025-11/
LOCATION:Pioneer Community Church\, 1389 Aviator Ave\, Eagle Mountain\, UT\, 84005\, United States
CATEGORIES:All Church Events
ATTACH;FMTTYPE=image/jpeg:https://pccutah.org/wp-content/uploads/2021/08/Logo.jpg
ORGANIZER;CN="Pioneer Community Church":MAILTO:contact@pccutah.org
END:VEVENT
BEGIN:VEVENT
DTSTART;TZID=America/Denver:20251116T180000
DTEND;TZID=America/Denver:20251116T193000
DTSTAMP:20260423T101909
CREATED:20251109T162024Z
LAST-MODIFIED:20251109T162024Z
UID:4482-1763316000-1763321400@pccutah.org
SUMMARY:Friendsgiving
DESCRIPTION:November 16th | 6:00-7:30 pm \nStudents (4th – 12th grade) \nInvite a friend and bring a dish to share! \nTurkey will be provided. \n7853 Oakwood Dr\, EM
URL:https://pccutah.org/event/friendsgiving-2025/
LOCATION:Smith House\, 7853 Oakwood Road\, Eagle Mountain\, UT\, 84005
CATEGORIES:All Church Events,Student
ATTACH;FMTTYPE=image/jpeg:https://pccutah.org/wp-content/uploads/2025/11/friendsgiving-2025.jpg
ORGANIZER;CN="Pioneer Community Church":MAILTO:contact@pccutah.org
END:VEVENT
BEGIN:VEVENT
DTSTART;TZID=America/Denver:20251102T183000
DTEND;TZID=America/Denver:20251102T193000
DTSTAMP:20260423T101909
CREATED:20251004T225013Z
LAST-MODIFIED:20251004T225013Z
UID:4435-1762108200-1762111800@pccutah.org
SUMMARY:Church Membership Class
DESCRIPTION:Classes will be on October 19th\, October 26th\, and November 2nd from 6:30 – 7:30 pm. \nChildcare Provided.
URL:https://pccutah.org/event/church-membership-class-2025c/
LOCATION:Smith House\, 7853 Oakwood Road\, Eagle Mountain\, UT\, 84005
CATEGORIES:All Church Events
ATTACH;FMTTYPE=image/jpeg:https://pccutah.org/wp-content/uploads/2025/10/Membership-Class-2025.jpg
ORGANIZER;CN="Pioneer Community Church":MAILTO:contact@pccutah.org
END:VEVENT
BEGIN:VEVENT
DTSTART;TZID=America/Denver:20251026T183000
DTEND;TZID=America/Denver:20251026T193000
DTSTAMP:20260423T101909
CREATED:20251004T224828Z
LAST-MODIFIED:20251004T224828Z
UID:4433-1761503400-1761507000@pccutah.org
SUMMARY:Church Membership Class
DESCRIPTION:Classes will be on October 19th\, October 26th\, and November 2nd from 6:30 – 7:30 pm. \nChildcare Provided.
URL:https://pccutah.org/event/church-membership-class-2025b/
LOCATION:Smith House\, 7853 Oakwood Road\, Eagle Mountain\, UT\, 84005
CATEGORIES:All Church Events
ATTACH;FMTTYPE=image/jpeg:https://pccutah.org/wp-content/uploads/2025/10/Membership-Class-2025.jpg
ORGANIZER;CN="Pioneer Community Church":MAILTO:contact@pccutah.org
END:VEVENT
BEGIN:VEVENT
DTSTART;TZID=America/Denver:20251019T183000
DTEND;TZID=America/Denver:20251019T193000
DTSTAMP:20260423T101909
CREATED:20251004T224653Z
LAST-MODIFIED:20251004T224653Z
UID:4431-1760898600-1760902200@pccutah.org
SUMMARY:Church Membership Class
DESCRIPTION:Classes will be on October 19th\, October 26th\, and November 2nd from 6:30 – 7:30 pm. \nChildcare Provided.
URL:https://pccutah.org/event/church-membership-class-2025a/
LOCATION:Smith House\, 7853 Oakwood Road\, Eagle Mountain\, UT\, 84005
CATEGORIES:All Church Events
ATTACH;FMTTYPE=image/jpeg:https://pccutah.org/wp-content/uploads/2025/10/Membership-Class-2025.jpg
ORGANIZER;CN="Pioneer Community Church":MAILTO:contact@pccutah.org
END:VEVENT
BEGIN:VEVENT
DTSTART;VALUE=DATE:20251005
DTEND;VALUE=DATE:20251006
DTSTAMP:20260423T101909
CREATED:20250713T053841Z
LAST-MODIFIED:20250816T003401Z
UID:4237-1759622400-1759708799@pccutah.org
SUMMARY:Picnic in the Park
DESCRIPTION:First Sunday in October \nVivian Park in Provo Canyon \nUS Highway 89 (0.2 miles NE of Mile Marker 13) \nPotluck: Bring a main dish or side to share. \nS’more fixings will be provided. \n 
URL:https://pccutah.org/event/picnic-in-the-park-2025-10/
LOCATION:Vivian Park\, 6828 S Fork Rd\, Provo\, UT\, 84604\, United States
CATEGORIES:All Church Events
ATTACH;FMTTYPE=image/jpeg:https://pccutah.org/wp-content/uploads/2025/07/Picnic-Lunch-1005.jpeg
ORGANIZER;CN="Pioneer Community Church":MAILTO:contact@pccutah.org
END:VEVENT
BEGIN:VEVENT
DTSTART;VALUE=DATE:20250907
DTEND;VALUE=DATE:20250908
DTSTAMP:20260423T101909
CREATED:20250713T053726Z
LAST-MODIFIED:20250713T053726Z
UID:4235-1757203200-1757289599@pccutah.org
SUMMARY:Picnic in the Park
DESCRIPTION:First Sunday of the Month \nCory B Wride Memorial Park \nBring your own lunch & enjoy great company!
URL:https://pccutah.org/event/picnic-in-the-park-2025-09/
LOCATION:Cory B Wride Memorial Park\, 5806 Pony Express Pkwy\, Eagle Mountain\, UT\, 84005\, United States
CATEGORIES:All Church Events
ATTACH;FMTTYPE=image/jpeg:https://pccutah.org/wp-content/uploads/2025/06/Picnic-Lunch.jpeg
ORGANIZER;CN="Pioneer Community Church":MAILTO:contact@pccutah.org
END:VEVENT
BEGIN:VEVENT
DTSTART;TZID=America/Denver:20250905T183000
DTEND;TZID=America/Denver:20250905T183000
DTSTAMP:20260423T101909
CREATED:20250816T004612Z
LAST-MODIFIED:20250816T004612Z
UID:4286-1757097000-1757097000@pccutah.org
SUMMARY:Youth Bowling Night
DESCRIPTION:PCC Youth Bowling Night \n6th – 12th Grades \nSept 5th | 6:30 pm \nFat Cats Saratoga Springs \nPizza\, Bowling\, & Drinks Provided
URL:https://pccutah.org/event/youth-bowling-night-2025/
LOCATION:Fat Cats Saratoga Springs\, 212 Pioneer Crossing\, Saratoga Springs\, UT 84045\, Saratoga Springs\, UT\, 84045\, United States
CATEGORIES:All Church Events,Student
ATTACH;FMTTYPE=image/jpeg:https://pccutah.org/wp-content/uploads/2025/08/Youth-Bowling-Night-2025.jpeg
ORGANIZER;CN="Pioneer Community Church":MAILTO:contact@pccutah.org
END:VEVENT
BEGIN:VEVENT
DTSTART;TZID=America/Denver:20250826T160000
DTEND;TZID=America/Denver:20250826T180000
DTSTAMP:20260423T101909
CREATED:20250816T004048Z
LAST-MODIFIED:20250816T004048Z
UID:4282-1756224000-1756231200@pccutah.org
SUMMARY:Smith Ranch Park
DESCRIPTION:For 5th and 6th Graders \nAugust 26th | 4pm – 6pm \nPizza & Gatorade will be provided \n3985 Smith Ranch Rd
URL:https://pccutah.org/event/smith-ranch-park-2025/
LOCATION:Smith Ranch Park\, 3985 Smith Ranch Rd\, Eagle Mountain\, UT\, 84005\, United States
CATEGORIES:All Church Events,Student
ATTACH;FMTTYPE=image/jpeg:https://pccutah.org/wp-content/uploads/2025/08/Smith-Ranch-Park-2025.jpeg
ORGANIZER;CN="Pioneer Community Church":MAILTO:contact@pccutah.org
END:VEVENT
BEGIN:VEVENT
DTSTART;VALUE=DATE:20250803
DTEND;VALUE=DATE:20250804
DTSTAMP:20260423T101909
CREATED:20250713T053415Z
LAST-MODIFIED:20250713T053504Z
UID:4231-1754179200-1754265599@pccutah.org
SUMMARY:Picnic in the Park
DESCRIPTION:First Sunday of the Month \nCory B Wride Memorial Park \nBring your own lunch & enjoy great company!
URL:https://pccutah.org/event/picnic-in-the-park-2025-08/
LOCATION:Cory B Wride Memorial Park\, 5806 Pony Express Pkwy\, Eagle Mountain\, UT\, 84005\, United States
CATEGORIES:All Church Events
ATTACH;FMTTYPE=image/jpeg:https://pccutah.org/wp-content/uploads/2025/06/Picnic-Lunch.jpeg
ORGANIZER;CN="Pioneer Community Church":MAILTO:contact@pccutah.org
END:VEVENT
BEGIN:VEVENT
DTSTART;VALUE=DATE:20250720
DTEND;VALUE=DATE:20250721
DTSTAMP:20260423T101909
CREATED:20250713T053105Z
LAST-MODIFIED:20250713T053105Z
UID:4227-1752969600-1753055999@pccutah.org
SUMMARY:Baptism Sunday
DESCRIPTION:Come celebrate baptisms with us! We will have our normal service at 10:10 and baptisms following the service.
URL:https://pccutah.org/event/baptism-sunday-2025-07/
LOCATION:Pioneer Community Church\, 1389 Aviator Ave\, Eagle Mountain\, UT\, 84005\, United States
CATEGORIES:All Church Events
ATTACH;FMTTYPE=image/jpeg:https://pccutah.org/wp-content/uploads/2025/07/Baptism-2025-07-20.jpeg
ORGANIZER;CN="Pioneer Community Church":MAILTO:contact@pccutah.org
END:VEVENT
BEGIN:VEVENT
DTSTART;VALUE=DATE:20250706
DTEND;VALUE=DATE:20250707
DTSTAMP:20260423T101909
CREATED:20250621T224539Z
LAST-MODIFIED:20250713T053448Z
UID:4201-1751760000-1751846399@pccutah.org
SUMMARY:Picnic in the Park
DESCRIPTION:First Sunday of the Month \nCory B Wride Memorial Park \nBring your own lunch & enjoy great company!
URL:https://pccutah.org/event/picnic-in-the-park-2025-07/
LOCATION:Cory B Wride Memorial Park\, 5806 Pony Express Pkwy\, Eagle Mountain\, UT\, 84005\, United States
CATEGORIES:All Church Events
ATTACH;FMTTYPE=image/jpeg:https://pccutah.org/wp-content/uploads/2025/06/Picnic-Lunch.jpeg
ORGANIZER;CN="Pioneer Community Church":MAILTO:contact@pccutah.org
END:VEVENT
BEGIN:VEVENT
DTSTART;VALUE=DATE:20250623
DTEND;VALUE=DATE:20250627
DTSTAMP:20260423T101909
CREATED:20250329T034423Z
LAST-MODIFIED:20250329T034423Z
UID:4105-1750636800-1750982399@pccutah.org
SUMMARY:Vacation Bible School 2025
DESCRIPTION:Games | Crafts | Snacks | Music | Bible Stories| Fun \nJune 23 – June 26 | 9am-Noon | Grades K-5 \nCory B Wride Memorial Park \nFree | Register Today \nRegistration Form \n(All volunteers have been background-checked for safety)
URL:https://pccutah.org/event/vacation-bible-school-2025/
LOCATION:Cory B Wride Memorial Park\, 5806 Pony Express Pkwy\, Eagle Mountain\, UT\, 84005\, United States
CATEGORIES:All Church Events,Student
ATTACH;FMTTYPE=image/jpeg:https://pccutah.org/wp-content/uploads/2025/03/VBS-2025.jpg
ORGANIZER;CN="Pioneer Community Church":MAILTO:contact@pccutah.org
END:VEVENT
BEGIN:VEVENT
DTSTART;TZID=America/Denver:20250531T100000
DTEND;TZID=America/Denver:20250531T100000
DTSTAMP:20260423T101909
CREATED:20250329T034030Z
LAST-MODIFIED:20250329T034030Z
UID:4102-1748685600-1748685600@pccutah.org
SUMMARY:Pony Express Days Parade
DESCRIPTION:Parade \nMay 31\, 2025 \n10:00am \nGet your spot early\, grab some candy and see our float!
URL:https://pccutah.org/event/pony-express-days-parade/
LOCATION:UT
CATEGORIES:All Church Events
ATTACH;FMTTYPE=image/jpeg:https://pccutah.org/wp-content/uploads/2025/03/PED-2025.jpg
ORGANIZER;CN="Pioneer Community Church":MAILTO:contact@pccutah.org
END:VEVENT
BEGIN:VEVENT
DTSTART;TZID=America/Denver:20250528T160000
DTEND;TZID=America/Denver:20250528T200000
DTSTAMP:20260423T101909
CREATED:20250329T033828Z
LAST-MODIFIED:20250329T033828Z
UID:4100-1748448000-1748462400@pccutah.org
SUMMARY:Pony Express Days: Family Fun Night
DESCRIPTION:Family Fun Night \nMay 28\, 2025 \n4:00pm – 8:00pm \nCome by and see us at our booth!
URL:https://pccutah.org/event/pony-express-days-family-fun-night/
LOCATION:UT
CATEGORIES:All Church Events
ATTACH;FMTTYPE=image/jpeg:https://pccutah.org/wp-content/uploads/2025/03/PED-2025.jpg
ORGANIZER;CN="Pioneer Community Church":MAILTO:contact@pccutah.org
END:VEVENT
BEGIN:VEVENT
DTSTART;TZID=America/Denver:20250504T190000
DTEND;TZID=America/Denver:20250504T190000
DTSTAMP:20260423T101909
CREATED:20250330T202446Z
LAST-MODIFIED:20250330T202446Z
UID:4121-1746385200-1746385200@pccutah.org
SUMMARY:Meet the Pastors
DESCRIPTION:Meet the Pastors \nSunday\, May 4th 7:00pm \nAt the Smith’s House \nSnacks Provided
URL:https://pccutah.org/event/meet-the-pastors-2025/
LOCATION:Smith House\, 7853 Oakwood Road\, Eagle Mountain\, UT\, 84005
CATEGORIES:All Church Events
ATTACH;FMTTYPE=image/jpeg:https://pccutah.org/wp-content/uploads/2025/03/Meet-Pastors-2025.jpg
ORGANIZER;CN="Pioneer Community Church":MAILTO:contact@pccutah.org
END:VEVENT
BEGIN:VEVENT
DTSTART;TZID=America/Denver:20250427T180000
DTEND;TZID=America/Denver:20250427T203000
DTSTAMP:20260423T101909
CREATED:20250330T201849Z
LAST-MODIFIED:20250330T202007Z
UID:4116-1745776800-1745785800@pccutah.org
SUMMARY:Youth Game Night
DESCRIPTION:Game Night | Refuge (Grades 6-12) \nSunday\, April 27 | 6:00pm – 8:30pm \nDinner Provided | Bring a friend
URL:https://pccutah.org/event/game-night-2025/
LOCATION:Smith House\, 7853 Oakwood Road\, Eagle Mountain\, UT\, 84005
CATEGORIES:All Church Events,Student
ATTACH;FMTTYPE=image/jpeg:https://pccutah.org/wp-content/uploads/2025/03/Game-Night-2025.jpg
ORGANIZER;CN="Pioneer Community Church":MAILTO:contact@pccutah.org
END:VEVENT
BEGIN:VEVENT
DTSTART;TZID=America/Denver:20250302T100000
DTEND;TZID=America/Denver:20250302T100000
DTSTAMP:20260423T101909
CREATED:20250121T235913Z
LAST-MODIFIED:20250122T000632Z
UID:4028-1740909600-1740909600@pccutah.org
SUMMARY:We Are Moving to Cedar Valley High School Performing Arts Building
DESCRIPTION:Starting on Sunday\, March 2nd\, our services will be held at Cedar Valley High School in the Performing Arts Building. \n1389 Aviator Ave\, Eagle Mountain\, UT 84005
URL:https://pccutah.org/event/we-are-moving/
LOCATION:Pioneer Community Church\, 1389 Aviator Ave\, Eagle Mountain\, UT\, 84005\, United States
CATEGORIES:All Church Events
ATTACH;FMTTYPE=image/jpeg:https://pccutah.org/wp-content/uploads/2025/01/Cedar-Valley-Performing-Arts-Wide.jpg
ORGANIZER;CN="Pioneer Community Church":MAILTO:contact@pccutah.org
END:VEVENT
BEGIN:VEVENT
DTSTART;TZID=America/Denver:20250119T160000
DTEND;TZID=America/Denver:20250119T180000
DTSTAMP:20260423T101909
CREATED:20250105T143552Z
LAST-MODIFIED:20250105T144257Z
UID:3995-1737302400-1737309600@pccutah.org
SUMMARY:Church-Wide Snow Tubing Event
DESCRIPTION:
URL:https://pccutah.org/event/snow-tubing-2025/
LOCATION:Soldier Hollow Nordic Center\, 2002 Soldier Hollow Ln\, Midway\, UT\, 84049\, United States
CATEGORIES:All Church Events
ATTACH;FMTTYPE=image/jpeg:https://pccutah.org/wp-content/uploads/2025/01/Snow-tubing-2025.jpg
ORGANIZER;CN="Pioneer Community Church":MAILTO:contact@pccutah.org
END:VEVENT
BEGIN:VEVENT
DTSTART;TZID=America/Denver:20241224T163000
DTEND;TZID=America/Denver:20241224T163000
DTSTAMP:20260423T101909
CREATED:20241104T005334Z
LAST-MODIFIED:20241106T005217Z
UID:3912-1735057800-1735057800@pccutah.org
SUMMARY:Christmas Eve Service
DESCRIPTION:Christmas Eve Service on 12/24 at 4:30pm.
URL:https://pccutah.org/event/christmas-eve-service-2024/
LOCATION:Gotta Dance\, 4038 N. Ira Hodges Scenic Pkwy\, Eagle Mountain\, UT\, United States
CATEGORIES:All Church Events
ATTACH;FMTTYPE=image/jpeg:https://pccutah.org/wp-content/uploads/2024/11/christmaseve2024.jpg
ORGANIZER;CN="Pioneer Community Church":MAILTO:contact@pccutah.org
END:VEVENT
BEGIN:VEVENT
DTSTART;TZID=America/Denver:20241201T113000
DTEND;TZID=America/Denver:20241201T113000
DTSTAMP:20260423T101909
CREATED:20241104T004607Z
LAST-MODIFIED:20241104T005657Z
UID:3910-1733052600-1733052600@pccutah.org
SUMMARY:Church Member’s Meeting
DESCRIPTION:Church Member’s Meeting on Sunday 12/1 immediately after the service.
URL:https://pccutah.org/event/members-meeting-2024-12/
LOCATION:Gotta Dance\, 4038 N. Ira Hodges Scenic Pkwy\, Eagle Mountain\, UT\, United States
CATEGORIES:All Church Events
ATTACH;FMTTYPE=image/png:https://pccutah.org/wp-content/uploads/2024/03/church-logo.png
ORGANIZER;CN="Pioneer Community Church":MAILTO:contact@pccutah.org
END:VEVENT
BEGIN:VEVENT
DTSTART;VALUE=DATE:20240625
DTEND;VALUE=DATE:20240629
DTSTAMP:20260423T101909
CREATED:20240421T141758Z
LAST-MODIFIED:20240421T142147Z
UID:3667-1719273600-1719619199@pccutah.org
SUMMARY:VBS 2024
DESCRIPTION:Games | Crafts | Snacks | Music | Bible Stories| Fun \nJune 25 – June 28 | 9am-Noon | Grades K-5 \nCory B Wride Memorial Park \nFree | Register Today \nParent Registration Form | Child Registration Form \n(All volunteers have been background-checked for safety)
URL:https://pccutah.org/event/vacation-bible-school-2024/
LOCATION:Cory B Wride Memorial Park\, 5806 Pony Express Pkwy\, Eagle Mountain\, UT\, 84005\, United States
CATEGORIES:All Church Events,Student
ATTACH;FMTTYPE=image/jpeg:https://pccutah.org/wp-content/uploads/2024/04/VBS-2024.jpeg
ORGANIZER;CN="Pioneer Community Church":MAILTO:contact@pccutah.org
END:VEVENT
BEGIN:VEVENT
DTSTART;VALUE=DATE:20240606
DTEND;VALUE=DATE:20240610
DTSTAMP:20260423T101909
CREATED:20240307T031527Z
LAST-MODIFIED:20240307T031527Z
UID:3614-1717632000-1717977599@pccutah.org
SUMMARY:Youth Camp
DESCRIPTION:
URL:https://pccutah.org/event/youth-camp-2024/
LOCATION:Cathedral Pines Camp\, HC 64 Box 8296\, Ketchum\, ID\, 83340
CATEGORIES:All Church Events,Student
ATTACH;FMTTYPE=image/jpeg:https://pccutah.org/wp-content/uploads/2024/02/youthcamptemp.jpg
ORGANIZER;CN="Pioneer Community Church":MAILTO:contact@pccutah.org
END:VEVENT
END:VCALENDAR